BEGIN:VCALENDAR
VERSION:2.0
PRODID:-//wp-events-plugin.com//7.1.7//EN
TZID:Europe/Madrid
X-WR-TIMEZONE:Europe/Madrid
BEGIN:VEVENT
UID:7@arde.cc
DTSTART;TZID=Europe/Madrid:20201024T170000
DTEND;TZID=Europe/Madrid:20201024T190000
DTSTAMP:20201027T100907Z
URL:https://www.arde.cc/calendario/eventos/aprende-rapidamente-diseno-3d-e
 dicion-para-ninas-gratis/
SUMMARY:Aprende Rapidamente Diseño 3D Edición para Niñas GRATIS
DESCRIPTION:Aprende de forma Rápida y muy fácil el Diseño 3D Edición pa
 ra niñas. Lo imprimiremos y te llevas los objetos GRATIS. Ven Fisicamente
  o Virtualmente.
ATTACH;FMTTYPE=image/jpeg:https://i0.wp.com/www.arde.cc/wp-content/uploads
 /2020/10/MeetAndCode2020-PequenoRectangulo.jpg?fit=2016%2C1134&ssl=1
CATEGORIES:Talleres
LOCATION:Knowhere Denia\, Carrer Foramur 12\, Denia\, Alicante\, 03700\, Es
 paña
GEO:38.842716;0.109005
X-APPLE-STRUCTURED-LOCATION;VALUE=URI;X-ADDRESS=Carrer Foramur 12\, Denia\,
  Alicante\, 03700\, España;X-APPLE-RADIUS=100;X-TITLE=Knowhere Denia:geo:
 38.842716,0.109005
END:VEVENT
BEGIN:VTIMEZONE
TZID:Europe/Madrid
X-LIC-LOCATION:Europe/Madrid
BEGIN:DAYLIGHT
DTSTART:20200329T030000
TZOFFSETFROM:+0100
TZOFFSETTO:+0200
TZNAME:CEST
END:DAYLIGHT
END:VTIMEZONE
END:VCALENDAR